BEGIN:VCALENDAR
VERSION:2.0
PRODID:-//MGV Allmendshofen - ECPv6.15.20//NONSGML v1.0//EN
CALSCALE:GREGORIAN
METHOD:PUBLISH
X-WR-CALNAME:MGV Allmendshofen
X-ORIGINAL-URL:https://mgv-allmendshofen.de
X-WR-CALDESC:Veranstaltungen für MGV Allmendshofen
REFRESH-INTERVAL;VALUE=DURATION:PT1H
X-Robots-Tag:noindex
X-PUBLISHED-TTL:PT1H
BEGIN:VTIMEZONE
TZID:UTC
BEGIN:STANDARD
TZOFFSETFROM:+0000
TZOFFSETTO:+0000
TZNAME:UTC
DTSTART:20230101T000000
END:STANDARD
END:VTIMEZONE
BEGIN:VEVENT
DTSTART;TZID=UTC:20240608T190000
DTEND;TZID=UTC:20240608T220000
DTSTAMP:20260425T202600
CREATED:20240315T191033Z
LAST-MODIFIED:20240511T172823Z
UID:57-1717873200-1717884000@mgv-allmendshofen.de
SUMMARY:Ehrungsabend Schwarzwald Baar Chor-Verband 2024
DESCRIPTION:Der Chor-Verband ehrt Sängerjubilare\, die Chöre umrahmen mit Gesang.
URL:https://mgv-allmendshofen.de/veranstaltung/ehrungsabend/
LOCATION:Haselbuckhalle\, Schulsteig 1\, Donaueschingen/Grüningen\, 78166\, Deutschland
CATEGORIES:Auftritt
END:VEVENT
END:VCALENDAR