BEGIN:VCALENDAR
VERSION:2.0
PRODID:-//MGV Allmendshofen - ECPv6.15.20//NONSGML v1.0//EN
CALSCALE:GREGORIAN
METHOD:PUBLISH
X-WR-CALNAME:MGV Allmendshofen
X-ORIGINAL-URL:https://mgv-allmendshofen.de
X-WR-CALDESC:Veranstaltungen für MGV Allmendshofen
REFRESH-INTERVAL;VALUE=DURATION:PT1H
X-Robots-Tag:noindex
X-PUBLISHED-TTL:PT1H
BEGIN:VTIMEZONE
TZID:UTC
BEGIN:STANDARD
TZOFFSETFROM:+0000
TZOFFSETTO:+0000
TZNAME:UTC
DTSTART:20230101T000000
END:STANDARD
END:VTIMEZONE
BEGIN:VEVENT
DTSTART;TZID=UTC:20240616T160000
DTEND;TZID=UTC:20240616T180000
DTSTAMP:20260425T202616
CREATED:20240315T185919Z
LAST-MODIFIED:20240315T190217Z
UID:60-1718553600-1718560800@mgv-allmendshofen.de
SUMMARY:Chorkonzert beim Rosenfest in Saverne 2024
DESCRIPTION:
URL:https://mgv-allmendshofen.de/veranstaltung/chorkonzert-beim-rosenfest-in-saverne/
LOCATION:Saverne\, Rosengarten\, Rue des bonnes gens\, Saverne\, Frankreich
CATEGORIES:Konzerte (extern)
END:VEVENT
END:VCALENDAR