BEGIN:VCALENDAR
VERSION:2.0
PRODID:-//MGV Allmendshofen - ECPv6.15.20//NONSGML v1.0//EN
CALSCALE:GREGORIAN
METHOD:PUBLISH
X-WR-CALNAME:MGV Allmendshofen
X-ORIGINAL-URL:https://mgv-allmendshofen.de
X-WR-CALDESC:Veranstaltungen für MGV Allmendshofen
REFRESH-INTERVAL;VALUE=DURATION:PT1H
X-Robots-Tag:noindex
X-PUBLISHED-TTL:PT1H
BEGIN:VTIMEZONE
TZID:UTC
BEGIN:STANDARD
TZOFFSETFROM:+0000
TZOFFSETTO:+0000
TZNAME:UTC
DTSTART:20230101T000000
END:STANDARD
END:VTIMEZONE
BEGIN:VEVENT
DTSTART;TZID=UTC:20240706T000000
DTEND;TZID=UTC:20240708T235959
DTSTAMP:20260425T173253
CREATED:20240315T193112Z
LAST-MODIFIED:20240618T050801Z
UID:102-1720224000-1720483199@mgv-allmendshofen.de
SUMMARY:Sommerfest 2024
DESCRIPTION:Eröffnung des Sommerfestes im Kirchgarten durch die Chöre des MGV\, anschließend Fest- und Barbetrieb\, Musikalische Unterhaltung durch die „Stubenhocker” am Samstag. \n\n\n\nSonntag Festgottesdienst\, Umrahmung durch die Cappella Musicale\, anschließend Mittagstisch mit musikalischer Unterhaltung durch „Hubraum“. \n\n\n\nAm Montag Handwerkervesper mit musikalischer Unterhaltung durch die „Early Shoppers“.
URL:https://mgv-allmendshofen.de/veranstaltung/sommerfest/
LOCATION:Kirchgarten St. Jakobus Allmendshofen\, Brunnenweg 2\, Donaueschingen\, 78144\, Deutschland
CATEGORIES:Fest
ATTACH;FMTTYPE=image/jpeg:https://mgv-allmendshofen.de/wp-content/uploads/2024/06/Sommerfest_2024_v1_240615_104133-scaled.jpg
END:VEVENT
END:VCALENDAR