BEGIN:VCALENDAR
VERSION:2.0
PRODID:-//MGV Allmendshofen - ECPv6.15.20//NONSGML v1.0//EN
CALSCALE:GREGORIAN
METHOD:PUBLISH
X-ORIGINAL-URL:https://mgv-allmendshofen.de
X-WR-CALDESC:Veranstaltungen für MGV Allmendshofen
REFRESH-INTERVAL;VALUE=DURATION:PT1H
X-Robots-Tag:noindex
X-PUBLISHED-TTL:PT1H
BEGIN:VTIMEZONE
TZID:UTC
BEGIN:STANDARD
TZOFFSETFROM:+0000
TZOFFSETTO:+0000
TZNAME:UTC
DTSTART:20230101T000000
END:STANDARD
END:VTIMEZONE
BEGIN:VTIMEZONE
TZID:Europe/Berlin
BEGIN:DAYLIGHT
TZOFFSETFROM:+0100
TZOFFSETTO:+0200
TZNAME:CEST
DTSTART:20230326T010000
END:DAYLIGHT
BEGIN:STANDARD
TZOFFSETFROM:+0200
TZOFFSETTO:+0100
TZNAME:CET
DTSTART:20231029T010000
END:STANDARD
BEGIN:DAYLIGHT
TZOFFSETFROM:+0100
TZOFFSETTO:+0200
TZNAME:CEST
DTSTART:20240331T010000
END:DAYLIGHT
BEGIN:STANDARD
TZOFFSETFROM:+0200
TZOFFSETTO:+0100
TZNAME:CET
DTSTART:20241027T010000
END:STANDARD
BEGIN:DAYLIGHT
TZOFFSETFROM:+0100
TZOFFSETTO:+0200
TZNAME:CEST
DTSTART:20250330T010000
END:DAYLIGHT
BEGIN:STANDARD
TZOFFSETFROM:+0200
TZOFFSETTO:+0100
TZNAME:CET
DTSTART:20251026T010000
END:STANDARD
END:VTIMEZONE
BEGIN:VEVENT
DTSTART;TZID=UTC:20241207T000000
DTEND;TZID=UTC:20241207T235959
DTSTAMP:20260423T133629
CREATED:20240315T204705Z
LAST-MODIFIED:20240722T073759Z
UID:183-1733529600-1733615999@mgv-allmendshofen.de
SUMMARY:Probentag
DESCRIPTION:
URL:https://mgv-allmendshofen.de/veranstaltung/probentag/
LOCATION:Rotes Rathaus Allmendshofen\, Riedstraße 18\, Donaueschingen\, 78144\, Deutschland
CATEGORIES:Sonderprobentag
ATTACH;FMTTYPE=image/jpeg:https://mgv-allmendshofen.de/wp-content/uploads/2024/03/20231013_200857-1-scaled.jpg
END:VEVENT
BEGIN:VEVENT
DTSTART;TZID=Europe/Berlin:20241208T140000
DTEND;TZID=Europe/Berlin:20241208T150000
DTSTAMP:20260423T133629
CREATED:20240716T201551Z
LAST-MODIFIED:20250106T150814Z
UID:391-1733666400-1733670000@mgv-allmendshofen.de
SUMMARY:Adventssingen am Adventsmarkt an der Quelle\, Donaueschingen
DESCRIPTION:
URL:https://mgv-allmendshofen.de/veranstaltung/adventssingen-am-adventsmarkt-and-der-quelle-donaueschingen/
LOCATION:Donauquelle\, Donaueschingen\, 78166
CATEGORIES:Konzerte (extern)
END:VEVENT
BEGIN:VEVENT
DTSTART;TZID=UTC:20241221T000000
DTEND;TZID=UTC:20241221T235959
DTSTAMP:20260423T133629
CREATED:20240315T204829Z
LAST-MODIFIED:20240315T204921Z
UID:186-1734739200-1734825599@mgv-allmendshofen.de
SUMMARY:Generalprobe Adventskonzert 2024
DESCRIPTION:
URL:https://mgv-allmendshofen.de/veranstaltung/generalprobe-adventskonzert-2024/
LOCATION:Stadtkirche St. Johann Donaueschingen\, Karlstraße 71\, Donaueschingen\, 78166\, Deutschland
CATEGORIES:Sonderprobentag
END:VEVENT
BEGIN:VEVENT
DTSTART;TZID=UTC:20241222T153000
DTEND;TZID=UTC:20241222T170000
DTSTAMP:20260423T133629
CREATED:20240315T190134Z
LAST-MODIFIED:20241206T110423Z
UID:59-1734881400-1734886800@mgv-allmendshofen.de
SUMMARY:Chorkonzert zum Advent 2024
DESCRIPTION:Am Sonntag vor Weihnachten – in der Regel dem 4. Advent – präsentiert der MGV 1876 Allmendshofen sein jährliches Weihnachtskonzert in der Stadtkirche St. Johann. Es erklingt Chormusik des Männerchores und des VocAllmende\, begleitet von der Orgel und Solisten.
URL:https://mgv-allmendshofen.de/veranstaltung/chorkonzert-zum-advent/
LOCATION:Stadtkirche St. Johann Donaueschingen\, Karlstraße 71\, Donaueschingen\, 78166\, Deutschland
CATEGORIES:Konzert (eigen)
ATTACH;FMTTYPE=image/jpeg:https://mgv-allmendshofen.de/wp-content/uploads/2024/03/Bild1-1.jpg
END:VEVENT
END:VCALENDAR